BEGIN:VCALENDAR
VERSION:2.0
PRODID:-//fablabtulsa.org//NONSGML kigkonsult.se iCalcreator 2.30.10//
CALSCALE:GREGORIAN
METHOD:PUBLISH
UID:a5fad601-67ec-49dd-aca3-1c88ecb15499
X-WR-CALDESC:FLT's new 3D design in-person class.  Come learn to draw in 3D
  using Fusion products.
X-WR-RELCALID:c36dfe6dde3f12aeb7e15ebe5025fcdc
X-WR-TIMEZONE:America/Chicago
BEGIN:VTIMEZONE
TZID:America/Chicago
BEGIN:STANDARD
TZNAME:CST
DTSTART:20261101T020000
TZOFFSETFROM:-0500
TZOFFSETTO:-0600
RDATE:20271107T020000
END:STANDARD
BEGIN:DAYLIGHT
TZNAME:CDT
DTSTART:20260308T020000
TZOFFSETFROM:-0600
TZOFFSETTO:-0500
RDATE:20270314T020000
RDATE:20280312T020000
END:DAYLIGHT
END:VTIMEZONE
BEGIN:VEVENT
UID:8fd01068-02d3-466c-a3b6-3529bef1d7d4
DTSTAMP:20260422T104343Z
DESCRIPTION:FLT's new 3D design in-person class.  Come learn to draw in 3D 
 using Fusion products.
DTSTART;TZID=America/Chicago:20261203T160000
DTEND;TZID=America/Chicago:20261203T190000
LOCATION:501 S Lewis Ave
SUMMARY:3D Design Class In Person Class
END:VEVENT
END:VCALENDAR
