BEGIN:VCALENDAR
VERSION:2.0
PRODID:-//fablabtulsa.org//NONSGML kigkonsult.se iCalcreator 2.30.10//
CALSCALE:GREGORIAN
METHOD:PUBLISH
UID:497d96dc-eeab-4249-9912-81af07674525
X-WR-CALDESC:
X-WR-RELCALID:4745f5a9ebc6dc8ac3a0b5ee5e0f5d69
X-WR-TIMEZONE:America/Chicago
BEGIN:VTIMEZONE
TZID:America/Chicago
BEGIN:STANDARD
TZNAME:CST
DTSTART:20261101T020000
TZOFFSETFROM:-0500
TZOFFSETTO:-0600
RDATE:20271107T020000
END:STANDARD
BEGIN:DAYLIGHT
TZNAME:CDT
DTSTART:20260308T020000
TZOFFSETFROM:-0600
TZOFFSETTO:-0500
RDATE:20270314T020000
RDATE:20280312T020000
END:DAYLIGHT
END:VTIMEZONE
BEGIN:VEVENT
UID:8e38f731-6d54-4255-9af9-0a32c95769b4
DTSTAMP:20260422T104337Z
DESCRIPTION:
DTSTART;TZID=America/Chicago:20261202T160000
DTEND;TZID=America/Chicago:20261202T190000
LOCATION:501 S Lewis Ave
SUMMARY:2D Drawing Class/Seminar - Come learn how to draw for Fab Lab Proje
 cts!
END:VEVENT
END:VCALENDAR
