BEGIN:VCALENDAR
VERSION:2.0
PRODID:-//fablabtulsa.org//NONSGML kigkonsult.se iCalcreator 2.30.10//
CALSCALE:GREGORIAN
METHOD:PUBLISH
UID:26587ac0-bdde-4dea-8e94-2aa40e22899f
X-WR-CALDESC:
X-WR-RELCALID:ce06e0298d5d38ac63fc56f1f12fddfd
X-WR-TIMEZONE:America/Chicago
BEGIN:VTIMEZONE
TZID:America/Chicago
BEGIN:STANDARD
TZNAME:CST
DTSTART:20251102T020000
TZOFFSETFROM:-0500
TZOFFSETTO:-0600
RDATE:20261101T020000
RDATE:20271107T020000
END:STANDARD
BEGIN:DAYLIGHT
TZNAME:CDT
DTSTART:20260308T020000
TZOFFSETFROM:-0600
TZOFFSETTO:-0500
RDATE:20270314T020000
RDATE:20280312T020000
END:DAYLIGHT
END:VTIMEZONE
BEGIN:VEVENT
UID:8f490d39-c8d9-4ebf-81c9-07d7a52ba08b
DTSTAMP:20260422T070547Z
DESCRIPTION:
DTSTART;TZID=America/Chicago:20261015T160000
DTEND;TZID=America/Chicago:20261015T190000
LOCATION:Fab Lab Tulsa\, 501 S Lewis Ave\, Tulsa\, Ok\, 74104
SUMMARY:Make and Take Event - Halloween Edition
END:VEVENT
END:VCALENDAR
