BEGIN:VCALENDAR
VERSION:2.0
PRODID:-//fablabtulsa.org//NONSGML kigkonsult.se iCalcreator 2.30.10//
CALSCALE:GREGORIAN
METHOD:PUBLISH
UID:6ab1158a-3264-4c69-9acd-8f3d90e2c29f
X-WR-CALDESC:FLT's new 3D design in-person class.  Come learn to draw in 3D
  using Fusion products.
X-WR-RELCALID:b5ed3d9d4ef5e059d93c35f0b5e5f69a
X-WR-TIMEZONE:America/Chicago
BEGIN:VTIMEZONE
TZID:America/Chicago
BEGIN:STANDARD
TZNAME:CST
DTSTART:20251102T020000
TZOFFSETFROM:-0500
TZOFFSETTO:-0600
RDATE:20261101T020000
RDATE:20271107T020000
END:STANDARD
BEGIN:DAYLIGHT
TZNAME:CDT
DTSTART:20260308T020000
TZOFFSETFROM:-0600
TZOFFSETTO:-0500
RDATE:20270314T020000
RDATE:20280312T020000
END:DAYLIGHT
END:VTIMEZONE
BEGIN:VEVENT
UID:085284ca-ec05-42fe-8fe0-a2ac115bd89d
DTSTAMP:20260422T070834Z
DESCRIPTION:FLT's new 3D design in-person class.  Come learn to draw in 3D 
 using Fusion products.
DTSTART;TZID=America/Chicago:20261008T160000
DTEND;TZID=America/Chicago:20261008T190000
LOCATION:501 S Lewis Ave
SUMMARY:3D Design Class In Person Class
END:VEVENT
END:VCALENDAR
