BEGIN:VCALENDAR
VERSION:2.0
PRODID:-//fablabtulsa.org//NONSGML kigkonsult.se iCalcreator 2.30.10//
CALSCALE:GREGORIAN
METHOD:PUBLISH
UID:b80c6bed-8f65-4734-b630-ecfeff7b07bf
X-WR-CALDESC:
X-WR-RELCALID:7eec6eb30d9c545f0a5a0bc4db2eaa5f
X-WR-TIMEZONE:America/Chicago
BEGIN:VTIMEZONE
TZID:America/Chicago
BEGIN:STANDARD
TZNAME:CST
DTSTART:20251102T020000
TZOFFSETFROM:-0500
TZOFFSETTO:-0600
RDATE:20261101T020000
RDATE:20271107T020000
END:STANDARD
BEGIN:DAYLIGHT
TZNAME:CDT
DTSTART:20260308T020000
TZOFFSETFROM:-0600
TZOFFSETTO:-0500
RDATE:20270314T020000
RDATE:20280312T020000
END:DAYLIGHT
END:VTIMEZONE
BEGIN:VEVENT
UID:f5decbec-ad03-4daa-a651-171a5a31c410
DTSTAMP:20260422T045729Z
DESCRIPTION:
DTSTART;TZID=America/Chicago:20260917T160000
DTEND;TZID=America/Chicago:20260917T190000
LOCATION:Fab Lab Tulsa\, 501 S Lewis Ave\, Tulsa\, Ok\, 74104
SUMMARY:Make and Take Event
END:VEVENT
END:VCALENDAR
