BEGIN:VCALENDAR
VERSION:2.0
PRODID:-//fablabtulsa.org//NONSGML kigkonsult.se iCalcreator 2.30.10//
CALSCALE:GREGORIAN
METHOD:PUBLISH
UID:d7fb19a3-be42-40c6-9842-ce6434261460
X-WR-CALDESC:
X-WR-RELCALID:1662fa9bc2ec39fade1b5118eb8c1cea
X-WR-TIMEZONE:America/Chicago
BEGIN:VTIMEZONE
TZID:America/Chicago
BEGIN:STANDARD
TZNAME:CST
DTSTART:20251102T020000
TZOFFSETFROM:-0500
TZOFFSETTO:-0600
RDATE:20261101T020000
RDATE:20271107T020000
END:STANDARD
BEGIN:DAYLIGHT
TZNAME:CDT
DTSTART:20260308T020000
TZOFFSETFROM:-0600
TZOFFSETTO:-0500
RDATE:20270314T020000
END:DAYLIGHT
END:VTIMEZONE
BEGIN:VEVENT
UID:8aaaba2e-c238-4700-99fd-f0cc6096861c
DTSTAMP:20260422T032040Z
DESCRIPTION:
DTSTART;TZID=America/Chicago:20260829T100000
DTEND;TZID=America/Chicago:20260829T170000
LOCATION:
SUMMARY:Maker Faire Tulsa - Exchange Center at EXPO Square
END:VEVENT
END:VCALENDAR
