BEGIN:VCALENDAR
VERSION:2.0
PRODID:-//fablabtulsa.org//NONSGML kigkonsult.se iCalcreator 2.30.10//
CALSCALE:GREGORIAN
METHOD:PUBLISH
UID:a30a6f1f-4cc7-4770-943f-0ff7890096ac
X-WR-CALDESC:
X-WR-RELCALID:bbc8b46fbeb7e59e79c3d64927b8be6d
X-WR-TIMEZONE:America/Chicago
BEGIN:VTIMEZONE
TZID:America/Chicago
BEGIN:STANDARD
TZNAME:CST
DTSTART:20251102T020000
TZOFFSETFROM:-0500
TZOFFSETTO:-0600
RDATE:20261101T020000
RDATE:20271107T020000
END:STANDARD
BEGIN:DAYLIGHT
TZNAME:CDT
DTSTART:20260308T020000
TZOFFSETFROM:-0600
TZOFFSETTO:-0500
RDATE:20270314T020000
END:DAYLIGHT
END:VTIMEZONE
BEGIN:VEVENT
UID:b7aad85b-afc0-491d-9876-d7958038dfd1
DTSTAMP:20260422T031742Z
DESCRIPTION:
DTSTART;TZID=America/Chicago:20260813T160000
DTEND;TZID=America/Chicago:20260813T190000
LOCATION:Fab Lab Tulsa\, 501 S Lewis Ave\, Tulsa\, Ok\, 74104
SUMMARY:Make and Take Event
END:VEVENT
END:VCALENDAR
