BEGIN:VCALENDAR
VERSION:2.0
PRODID:-//fablabtulsa.org//NONSGML kigkonsult.se iCalcreator 2.30.10//
CALSCALE:GREGORIAN
METHOD:PUBLISH
UID:74e43d56-77c5-4bd9-b215-6d5efbc1be02
X-WR-CALDESC:
X-WR-RELCALID:4738dc75d1a81b8e17a5b87196f5b00c
X-WR-TIMEZONE:America/Chicago
BEGIN:VTIMEZONE
TZID:America/Chicago
BEGIN:STANDARD
TZNAME:CST
DTSTART:20251102T020000
TZOFFSETFROM:-0500
TZOFFSETTO:-0600
RDATE:20261101T020000
RDATE:20271107T020000
END:STANDARD
BEGIN:DAYLIGHT
TZNAME:CDT
DTSTART:20260308T020000
TZOFFSETFROM:-0600
TZOFFSETTO:-0500
RDATE:20270314T020000
END:DAYLIGHT
END:VTIMEZONE
BEGIN:VEVENT
UID:6e822c3c-26b5-40df-b1a3-bde0eb280ab7
DTSTAMP:20260422T012227Z
DESCRIPTION:
DTSTART;TZID=America/Chicago:20260727T090000
DTEND;TZID=America/Chicago:20260731T120000
LOCATION:501 S Lewis Avenue \, Tulsa\, OK 74104 US
SUMMARY:Special Event
END:VEVENT
END:VCALENDAR
