BEGIN:VCALENDAR
VERSION:2.0
PRODID:-//fablabtulsa.org//NONSGML kigkonsult.se iCalcreator 2.30.10//
CALSCALE:GREGORIAN
METHOD:PUBLISH
UID:48361126-15fd-4620-9451-26b4f25dd166
X-WR-CALDESC:CAMP DESCRIPTION: Unleash your child’s creativity in this Fabu
 lous week-long adventure where fashion meets home décor! Campers will expl
 ore the exciting world of digital design and fabrication\, learning to cra
 ft personalized wearables and stylish décor using cutting-edge Fab Lab equ
 ipment. From custom jewelry and charms to unique wearables with thermal vi
 nyl\, kids will bring their fashion ideas to life. Then\, they’ll level up
  their design skills by creating glowing lanterns\, chic acrylic mirror fr
 ames\, or custom shelves using advanced tools like our 3-axis wood mill an
 d CO2 laser. By the end of the week\, your child will have mastered digita
 l fabrication techniques and built a collection of personalized fashion pi
 eces and décor items that truly reflect their style. All supplies are prov
 ided\, and every day is packed with hands-on fun\, creativity\, and innova
 tion! Design it. Wear it. Style it. Make it FABulous!\n\nAGES: 10-15\n\nDA
 TE & TIME: Half-day camp runs 7/20/26 through 7/25/26 from 9:00am-12:00pm.
  Early drop-off begins at 8:30am each day.\n\nCOST: $195 per student.\n\nI
 NSTRUCTIONS: Click REGISTER NOW at the top right of the screen to sign up.
 \n\nDEADLINE: Registration closes on May 31\, 2026
X-WR-RELCALID:56bdfd572cf1d6f638bb892656291680
X-WR-TIMEZONE:America/Chicago
BEGIN:VTIMEZONE
TZID:America/Chicago
BEGIN:STANDARD
TZNAME:CST
DTSTART:20251102T020000
TZOFFSETFROM:-0500
TZOFFSETTO:-0600
RDATE:20261101T020000
RDATE:20271107T020000
END:STANDARD
BEGIN:DAYLIGHT
TZNAME:CDT
DTSTART:20260308T020000
TZOFFSETFROM:-0600
TZOFFSETTO:-0500
RDATE:20270314T020000
END:DAYLIGHT
END:VTIMEZONE
BEGIN:VEVENT
UID:5f5a4d06-60a4-4c26-9e0e-8c7615ca24f4
DTSTAMP:20260421T194441Z
DESCRIPTION:CAMP DESCRIPTION: Unleash your child’s creativity in this Fabul
 ous week-long adventure where fashion meets home décor! Campers will explo
 re the exciting world of digital design and fabrication\, learning to craf
 t personalized wearables and stylish décor using cutting-edge Fab Lab equi
 pment. From custom jewelry and charms to unique wearables with thermal vin
 yl\, kids will bring their fashion ideas to life. Then\, they’ll level up 
 their design skills by creating glowing lanterns\, chic acrylic mirror fra
 mes\, or custom shelves using advanced tools like our 3-axis wood mill and
  CO2 laser. By the end of the week\, your child will have mastered digital
  fabrication techniques and built a collection of personalized fashion pie
 ces and décor items that truly reflect their style. All supplies are provi
 ded\, and every day is packed with hands-on fun\, creativity\, and innovat
 ion! Design it. Wear it. Style it. Make it FABulous!\n\nAGES: 10-15\n\nDAT
 E & TIME: Half-day camp runs 7/20/26 through 7/25/26 from 9:00am-12:00pm. 
 Early drop-off begins at 8:30am each day.\n\nCOST: $195 per student.\n\nIN
 STRUCTIONS: Click REGISTER NOW at the top right of the screen to sign up.
 \n\nDEADLINE: Registration closes on May 31\, 2026
DTSTART;TZID=America/Chicago:20260720T090000
DTEND;TZID=America/Chicago:20260724T120000
LOCATION:501 S Lewis Avenue \, Tulsa\, OK 74104 US
SUMMARY:Fab Fashion and Decor
END:VEVENT
END:VCALENDAR
