BEGIN:VCALENDAR
VERSION:2.0
PRODID:-//fablabtulsa.org//NONSGML kigkonsult.se iCalcreator 2.30.10//
CALSCALE:GREGORIAN
METHOD:PUBLISH
UID:429c9178-02e6-4284-8afe-4ebe2426d6ba
X-WR-CALDESC:CAMP DESCRIPTION: Looking for a summer camp that blends creati
 vity\, problem‑solving\, and real STEM learning? Bot‑Builders at Fab Lab T
 ulsa gives kids an exciting\, hands-on introduction to coding\, electronic
 s\, and robotics in a supportive\, engaging environment. Over the course o
 f this week-long camp\, your child will learn the foundations of programmi
 ng using Microsoft MakeCode and the BBC micro:bit microcontroller—which th
 ey’ll get to take home and keep using after camp ends. Through fun\, guide
 d projects\, campers will create simple animations and games\, then gradua
 lly advance to building and programming sensors and LEGO‑style robots. Eve
 ry activity is designed to build confidence\, spark curiosity\, and help k
 ids understand how technology works in the real world. Along the way\, the
 y’ll practice teamwork\, critical thinking\, and creative problem-solving—
 skills that go far beyond robotics. Give your child the chance to discover
  their coding superpowers and explore the amazing possibilities of robotic
 s. Think It. Code It. Make It Move!\n\nAGES: 10-15\n\nDATE & TIME: Half-da
 y camp runs 7/13/26 through 7/17/26 from 9:00am-12:00pm. Early drop-off be
 gins at 8:30am each day.\n\nCOST: $235 per student.\n\nINSTRUCTIONS: Click
  REGISTER NOW at the top right of the screen to sign up.\n\nDEADLINE: Regi
 stration closes on May 31\, 2026
X-WR-RELCALID:35b0a8f991b74ef83f09b5938419a3a9
X-WR-TIMEZONE:America/Chicago
BEGIN:VTIMEZONE
TZID:America/Chicago
BEGIN:STANDARD
TZNAME:CST
DTSTART:20251102T020000
TZOFFSETFROM:-0500
TZOFFSETTO:-0600
RDATE:20261101T020000
RDATE:20271107T020000
END:STANDARD
BEGIN:DAYLIGHT
TZNAME:CDT
DTSTART:20260308T020000
TZOFFSETFROM:-0600
TZOFFSETTO:-0500
RDATE:20270314T020000
END:DAYLIGHT
END:VTIMEZONE
BEGIN:VEVENT
UID:a792a6c9-1ece-4c73-880f-6c2674777744
DTSTAMP:20260421T195802Z
DESCRIPTION:CAMP DESCRIPTION: Looking for a summer camp that blends creativ
 ity\, problem‑solving\, and real STEM learning? Bot‑Builders at Fab Lab Tu
 lsa gives kids an exciting\, hands-on introduction to coding\, electronics
 \, and robotics in a supportive\, engaging environment. Over the course of
  this week-long camp\, your child will learn the foundations of programmin
 g using Microsoft MakeCode and the BBC micro:bit microcontroller—which the
 y’ll get to take home and keep using after camp ends. Through fun\, guided
  projects\, campers will create simple animations and games\, then gradual
 ly advance to building and programming sensors and LEGO‑style robots. Ever
 y activity is designed to build confidence\, spark curiosity\, and help ki
 ds understand how technology works in the real world. Along the way\, they
 ’ll practice teamwork\, critical thinking\, and creative problem-solving—s
 kills that go far beyond robotics. Give your child the chance to discover 
 their coding superpowers and explore the amazing possibilities of robotics
 . Think It. Code It. Make It Move!\n\nAGES: 10-15\n\nDATE & TIME: Half-day
  camp runs 7/13/26 through 7/17/26 from 9:00am-12:00pm. Early drop-off beg
 ins at 8:30am each day.\n\nCOST: $235 per student.\n\nINSTRUCTIONS: Click 
 REGISTER NOW at the top right of the screen to sign up.\n\nDEADLINE: Regis
 tration closes on May 31\, 2026
DTSTART;TZID=America/Chicago:20260713T090000
DTEND;TZID=America/Chicago:20260717T120000
LOCATION:
SUMMARY:MicroBit Coding and Robotics - Session 2
END:VEVENT
END:VCALENDAR
