BEGIN:VCALENDAR
VERSION:2.0
PRODID:-//fablabtulsa.org//NONSGML kigkonsult.se iCalcreator 2.30.10//
CALSCALE:GREGORIAN
METHOD:PUBLISH
UID:e09454a9-9426-4256-a8ac-c6c27c910afd
X-WR-CALDESC:Member Class.  Register for class through Member Portal powere
 d by MindBody.
X-WR-RELCALID:877b6e71aa6497e9db87c6fd273826fd
X-WR-TIMEZONE:America/Chicago
BEGIN:VTIMEZONE
TZID:America/Chicago
BEGIN:STANDARD
TZNAME:CST
DTSTART:20251102T020000
TZOFFSETFROM:-0500
TZOFFSETTO:-0600
RDATE:20261101T020000
RDATE:20271107T020000
END:STANDARD
BEGIN:DAYLIGHT
TZNAME:CDT
DTSTART:20260308T020000
TZOFFSETFROM:-0600
TZOFFSETTO:-0500
RDATE:20270314T020000
END:DAYLIGHT
END:VTIMEZONE
BEGIN:VEVENT
UID:80c5b45b-f317-4809-a3ce-180d1085ee8a
DTSTAMP:20260422T010736Z
DESCRIPTION:Member Class.  Register for class through Member Portal powered
  by MindBody.
DTSTART;TZID=America/Chicago:20260711T100000
DTEND;TZID=America/Chicago:20260711T120000
LOCATION:501 S Lewis Ave\, Tulsa\, OK 74104 US
SUMMARY:Class - Manual Woodworking Machinery
END:VEVENT
END:VCALENDAR
