BEGIN:VCALENDAR
VERSION:2.0
PRODID:-//fablabtulsa.org//NONSGML kigkonsult.se iCalcreator 2.30.10//
CALSCALE:GREGORIAN
METHOD:PUBLISH
UID:fc91ead2-aaaa-430b-9694-944fb63caa50
X-WR-CALDESC:FLT's new 3D design in-person class.  Come learn to draw in 3D
  using Fusion products.
X-WR-RELCALID:a4d71f09d6d00c0f4dec52ad853a9f8a
X-WR-TIMEZONE:America/Chicago
BEGIN:VTIMEZONE
TZID:America/Chicago
BEGIN:STANDARD
TZNAME:CST
DTSTART:20251102T020000
TZOFFSETFROM:-0500
TZOFFSETTO:-0600
RDATE:20261101T020000
RDATE:20271107T020000
END:STANDARD
BEGIN:DAYLIGHT
TZNAME:CDT
DTSTART:20260308T020000
TZOFFSETFROM:-0600
TZOFFSETTO:-0500
RDATE:20270314T020000
END:DAYLIGHT
END:VTIMEZONE
BEGIN:VEVENT
UID:ee454b7e-5130-44f6-96c6-21494575aaed
DTSTAMP:20260422T012201Z
DESCRIPTION:FLT's new 3D design in-person class.  Come learn to draw in 3D 
 using Fusion products.
DTSTART;TZID=America/Chicago:20260709T170000
DTEND;TZID=America/Chicago:20260709T190000
LOCATION:501 S Lewis Ave
SUMMARY:3D Design Class In Person Class
END:VEVENT
END:VCALENDAR
