BEGIN:VCALENDAR
VERSION:2.0
PRODID:-//fablabtulsa.org//NONSGML kigkonsult.se iCalcreator 2.30.10//
CALSCALE:GREGORIAN
METHOD:PUBLISH
UID:4be10cab-9531-4ae1-8976-6a51f6020da2
X-WR-CALDESC:
X-WR-RELCALID:887c53f87300ca07dfa12a5804aea119
X-WR-TIMEZONE:America/Chicago
BEGIN:VTIMEZONE
TZID:America/Chicago
BEGIN:STANDARD
TZNAME:CST
DTSTART:20251102T020000
TZOFFSETFROM:-0500
TZOFFSETTO:-0600
RDATE:20261101T020000
RDATE:20271107T020000
END:STANDARD
BEGIN:DAYLIGHT
TZNAME:CDT
DTSTART:20260308T020000
TZOFFSETFROM:-0600
TZOFFSETTO:-0500
RDATE:20270314T020000
END:DAYLIGHT
END:VTIMEZONE
BEGIN:VEVENT
UID:30c99e62-5e2c-4c03-aacb-144da294da0c
DTSTAMP:20260422T012406Z
DESCRIPTION:
DTSTART;TZID=America/Chicago:20260708T170000
DTEND;TZID=America/Chicago:20260708T190000
LOCATION:501 S Lewis Ave
SUMMARY:2D Drawing Class/Seminar - Come learn how to draw for Fab Lab Proje
 cts!
END:VEVENT
END:VCALENDAR
