BEGIN:VCALENDAR
VERSION:2.0
PRODID:-//fablabtulsa.org//NONSGML kigkonsult.se iCalcreator 2.30.10//
CALSCALE:GREGORIAN
METHOD:PUBLISH
UID:0dcfc295-93b6-4387-8d06-81475d895dab
X-WR-CALDESC:CAMP DESCRIPTION: If your child loves to build\, experiment\, 
 and take on big challenges\, Engineering Challenge Camp is the perfect way
  to fuel their curiosity this summer. Throughout this action‑packed week\,
  campers will explore core principles of science\, engineering\, and desig
 n through a series of hands‑on challenges that encourage creativity\, crit
 ical thinking\, and teamwork. Each day introduces a new engineering advent
 ure—whether it’s constructing the strongest bridge\, designing a rubber‑ba
 nd‑powered car built for speed\, or launching a high‑flying water rocket. 
 With each project\, campers learn to test ideas\, refine their designs\, a
 nd celebrate the joy of discovery. Participants also get the chance to use
  Fab Lab Tulsa’s cutting‑edge equipment to bring their concepts to life\, 
 gaining real experience with tools and technologies that make engineering 
 feel exciting and accessible. By the end of the week\, your child will hav
 e strengthened their STEM foundations\, built confidence in their problem‑
 solving abilities\, and created innovative projects they’ll be eager to sh
 are. Think it. Make it. Launch it. Be the Ultimate Engineer!\n\nAGES: 10-1
 5\n\nDATE & TIME: Half-day camp runs 6/22/26 through 6/26/26 from 9:00am-1
 2:00pm. Early drop-off begins at 8:30am each day.\n\nCOST: $195 per studen
 t\n\nINSTRUCTIONS: Click REGISTER NOW at the top right of the screen to si
 gn up.\n\nDEADLINE: Registration closes on June 30\, 2026
X-WR-RELCALID:7d0262999998f4c57b7eb290deee5e20
X-WR-TIMEZONE:America/Chicago
BEGIN:VTIMEZONE
TZID:America/Chicago
BEGIN:STANDARD
TZNAME:CST
DTSTART:20251102T020000
TZOFFSETFROM:-0500
TZOFFSETTO:-0600
RDATE:20261101T020000
RDATE:20271107T020000
END:STANDARD
BEGIN:DAYLIGHT
TZNAME:CDT
DTSTART:20260308T020000
TZOFFSETFROM:-0600
TZOFFSETTO:-0500
RDATE:20270314T020000
END:DAYLIGHT
END:VTIMEZONE
BEGIN:VEVENT
UID:2bb388bd-0669-463e-915e-cf66e6a74fc2
DTSTAMP:20260421T194943Z
DESCRIPTION:CAMP DESCRIPTION: If your child loves to build\, experiment\, a
 nd take on big challenges\, Engineering Challenge Camp is the perfect way 
 to fuel their curiosity this summer. Throughout this action‑packed week\, 
 campers will explore core principles of science\, engineering\, and design
  through a series of hands‑on challenges that encourage creativity\, criti
 cal thinking\, and teamwork. Each day introduces a new engineering adventu
 re—whether it’s constructing the strongest bridge\, designing a rubber‑ban
 d‑powered car built for speed\, or launching a high‑flying water rocket. W
 ith each project\, campers learn to test ideas\, refine their designs\, an
 d celebrate the joy of discovery. Participants also get the chance to use 
 Fab Lab Tulsa’s cutting‑edge equipment to bring their concepts to life\, g
 aining real experience with tools and technologies that make engineering f
 eel exciting and accessible. By the end of the week\, your child will have
  strengthened their STEM foundations\, built confidence in their problem‑s
 olving abilities\, and created innovative projects they’ll be eager to sha
 re. Think it. Make it. Launch it. Be the Ultimate Engineer!\n\nAGES: 10-15
 \n\nDATE & TIME: Half-day camp runs 6/22/26 through 6/26/26 from 9:00am-12
 :00pm. Early drop-off begins at 8:30am each day.\n\nCOST: $195 per student
 \n\nINSTRUCTIONS: Click REGISTER NOW at the top right of the screen to sig
 n up.\n\nDEADLINE: Registration closes on June 30\, 2026
DTSTART;TZID=America/Chicago:20260622T090000
DTEND;TZID=America/Chicago:20260626T120000
LOCATION:501 S Lewis Avenue \, Tulsa\, OK 74104 US
SUMMARY:Engineering Challenge
END:VEVENT
END:VCALENDAR
