BEGIN:VCALENDAR
VERSION:2.0
PRODID:-//fablabtulsa.org//NONSGML kigkonsult.se iCalcreator 2.30.10//
CALSCALE:GREGORIAN
METHOD:PUBLISH
UID:16e85abc-7706-4320-8432-2debe9399849
X-WR-CALDESC:
X-WR-RELCALID:3c7ba3102eeb11bdea825095a4396353
X-WR-TIMEZONE:America/Chicago
BEGIN:VTIMEZONE
TZID:America/Chicago
BEGIN:STANDARD
TZNAME:CST
DTSTART:20251102T020000
TZOFFSETFROM:-0500
TZOFFSETTO:-0600
RDATE:20261101T020000
RDATE:20271107T020000
END:STANDARD
BEGIN:DAYLIGHT
TZNAME:CDT
DTSTART:20260308T020000
TZOFFSETFROM:-0600
TZOFFSETTO:-0500
RDATE:20270314T020000
END:DAYLIGHT
END:VTIMEZONE
BEGIN:VEVENT
UID:f4973194-f7b4-4b5e-8b55-e664ad7e571f
DTSTAMP:20260424T044137Z
DESCRIPTION:
DTSTART;TZID=America/Chicago:20260530T100000
DTEND;TZID=America/Chicago:20260530T130000
LOCATION:Fab Lab Tulsa\, 501 S Lewis Ave\, Tulsa\, Ok\, 74104
SUMMARY:Make and Take Event -Route 66 Neon Signs
END:VEVENT
END:VCALENDAR
