BEGIN:VCALENDAR
VERSION:2.0
PRODID:-//fablabtulsa.org//NONSGML kigkonsult.se iCalcreator 2.30.10//
CALSCALE:GREGORIAN
METHOD:PUBLISH
UID:ba4f70f2-7389-4f4e-95da-5fbe5389957c
X-WR-CALDESC:Come to the April 2026 meeting of TU Maker Club at Fab Lab Tul
 sa.  This is an event for TU Students only.  It's an open project night fo
 r our last meeting of the year. Bring your ideas for a project.  We will h
 ave the lasers\, vinyl cutter\, and uv printer reserved for you.  We will 
 also have scrap wood and acrylic for the lasers.  OR feel free to bring a 
 sweatshirt or t-shirt for vinyl cutting and pressing or any specialty mate
 rials you may need. Email christy-abraham@utulsa.edu for specific question
 s.   If you are interested in joining us please rsvp by reserving a free t
 icket here.
X-WR-RELCALID:b7c67aef698a0f55c038d99409f53519
X-WR-TIMEZONE:America/Chicago
BEGIN:VTIMEZONE
TZID:America/Chicago
BEGIN:STANDARD
TZNAME:CST
DTSTART:20251102T020000
TZOFFSETFROM:-0500
TZOFFSETTO:-0600
RDATE:20261101T020000
END:STANDARD
BEGIN:DAYLIGHT
TZNAME:CDT
DTSTART:20260308T020000
TZOFFSETFROM:-0600
TZOFFSETTO:-0500
RDATE:20270314T020000
END:DAYLIGHT
END:VTIMEZONE
BEGIN:VEVENT
UID:dfcdd415-3368-4f15-810e-ee40bd22be84
DTSTAMP:20260420T155827Z
DESCRIPTION:Come to the April 2026 meeting of TU Maker Club at Fab Lab Tuls
 a.  This is an event for TU Students only.  It's an open project night for
  our last meeting of the year. Bring your ideas for a project.  We will ha
 ve the lasers\, vinyl cutter\, and uv printer reserved for you.  We will a
 lso have scrap wood and acrylic for the lasers.  OR feel free to bring a s
 weatshirt or t-shirt for vinyl cutting and pressing or any specialty mater
 ials you may need. Email christy-abraham@utulsa.edu for specific questions
 .   If you are interested in joining us please rsvp by reserving a free ti
 cket here.
DTSTART;TZID=America/Chicago:20260430T163000
DTEND;TZID=America/Chicago:20260430T190000
LOCATION:
SUMMARY:April 2026 TU Maker Club at Fab Lab -End of Year Meeting and Making
END:VEVENT
END:VCALENDAR
