BEGIN:VCALENDAR
VERSION:2.0
PRODID:-//fablabtulsa.org//NONSGML kigkonsult.se iCalcreator 2.30.10//
CALSCALE:GREGORIAN
METHOD:PUBLISH
UID:f32a01b5-bd29-4818-b9cb-fc6548978626
X-WR-CALDESC:Welcome to the February 2026 meeting of TU Maker Club at Fab L
 ab Tulsa.  This is an event for TU Students.  We will be making personaliz
 ed thermal tumblers.   If you are interested in joining us please rsvp by 
 reserving a free ticket here.
X-WR-RELCALID:f05271658f8dab454455d7e0a5db3c21
X-WR-TIMEZONE:America/Chicago
BEGIN:VTIMEZONE
TZID:America/Chicago
BEGIN:STANDARD
TZNAME:CST
DTSTART:20251102T020000
TZOFFSETFROM:-0500
TZOFFSETTO:-0600
RDATE:20261101T020000
END:STANDARD
BEGIN:DAYLIGHT
TZNAME:CDT
DTSTART:20250309T020000
TZOFFSETFROM:-0600
TZOFFSETTO:-0500
RDATE:20260308T020000
RDATE:20270314T020000
END:DAYLIGHT
END:VTIMEZONE
BEGIN:VEVENT
UID:f1521e29-281d-4790-90bf-0199d60fe59c
DTSTAMP:20260421T233915Z
DESCRIPTION:Welcome to the February 2026 meeting of TU Maker Club at Fab La
 b Tulsa.  This is an event for TU Students.  We will be making personalize
 d thermal tumblers.   If you are interested in joining us please rsvp by r
 eserving a free ticket here.
DTSTART;TZID=America/Chicago:20260226T163000
DTEND;TZID=America/Chicago:20260226T190000
LOCATION:501 South Lewis Avenue\, Tulsa\, OK 74104 US
SUMMARY:February 2026 TU Maker Club at Fab Lab
END:VEVENT
END:VCALENDAR
