BEGIN:VCALENDAR
VERSION:2.0
PRODID:-//fablabtulsa.org//NONSGML kigkonsult.se iCalcreator 2.30.10//
CALSCALE:GREGORIAN
METHOD:PUBLISH
UID:4ba5cedd-0311-4d82-9a7e-49d1f0116f4c
X-WR-CALDESC:Member Class.  Register for class through Member Portal powere
 d by MindBody.
X-WR-RELCALID:d817ed47640fc3f301b4e21bf281cbb7
X-WR-TIMEZONE:America/Chicago
BEGIN:VTIMEZONE
TZID:America/Chicago
BEGIN:STANDARD
TZNAME:CST
DTSTART:20251102T020000
TZOFFSETFROM:-0500
TZOFFSETTO:-0600
RDATE:20261101T020000
END:STANDARD
BEGIN:DAYLIGHT
TZNAME:CDT
DTSTART:20250309T020000
TZOFFSETFROM:-0600
TZOFFSETTO:-0500
RDATE:20260308T020000
RDATE:20270314T020000
END:DAYLIGHT
END:VTIMEZONE
BEGIN:VEVENT
UID:a66ce259-7acc-402d-8670-0ca8e536fabb
DTSTAMP:20260421T233449Z
DESCRIPTION:Member Class.  Register for class through Member Portal powered
  by MindBody.
DTSTART;TZID=America/Chicago:20260221T100000
DTEND;TZID=America/Chicago:20260221T120000
LOCATION:501 S Lewis Ave\, Tulsa\, OK 74104 US
SUMMARY:Class - Manual Woodworking Machinery
END:VEVENT
END:VCALENDAR
