BEGIN:VCALENDAR
VERSION:2.0
PRODID:-//fablabtulsa.org//NONSGML kigkonsult.se iCalcreator 2.30.10//
CALSCALE:GREGORIAN
METHOD:PUBLISH
UID:ed376f39-c9ea-43fa-850a-070f24f23412
X-WR-CALDESC:
X-WR-RELCALID:bff6a1c371007e4a97f4321fa6218bed
X-WR-TIMEZONE:America/Chicago
BEGIN:VTIMEZONE
TZID:America/Chicago
BEGIN:STANDARD
TZNAME:CST
DTSTART:20251102T020000
TZOFFSETFROM:-0500
TZOFFSETTO:-0600
RDATE:20261101T020000
END:STANDARD
BEGIN:DAYLIGHT
TZNAME:CDT
DTSTART:20250309T020000
TZOFFSETFROM:-0600
TZOFFSETTO:-0500
RDATE:20260308T020000
RDATE:20270314T020000
END:DAYLIGHT
END:VTIMEZONE
BEGIN:VEVENT
UID:e197639a-57ca-4637-896c-637fe6832fb9
DTSTAMP:20260421T233515Z
DESCRIPTION:
DTSTART;TZID=America/Chicago:20260211T170000
DTEND;TZID=America/Chicago:20260211T190000
LOCATION:501 S Lewis Ave
SUMMARY:2D Drawing Class/Seminar - Come learn how to draw for Fab Lab Proje
 cts!
END:VEVENT
END:VCALENDAR
