BEGIN:VCALENDAR
VERSION:2.0
PRODID:-//fablabtulsa.org//NONSGML kigkonsult.se iCalcreator 2.30.10//
CALSCALE:GREGORIAN
METHOD:PUBLISH
UID:f8fa9e75-5ef0-43a2-bd31-7369b36355cb
X-WR-CALDESC:Welcome to the January 2026 meeting of TU Maker Club at Fab La
 b Tulsa.  This is an event for TU Students.  We will be making bag tags an
 d key chains.   If you are interested in joining us\, please RSVP by reser
 ving a free ticket here.
X-WR-RELCALID:80f35c927084a76d1806e2ce49ab86fc
X-WR-TIMEZONE:America/Chicago
BEGIN:VTIMEZONE
TZID:America/Chicago
BEGIN:STANDARD
TZNAME:CST
DTSTART:20251102T020000
TZOFFSETFROM:-0500
TZOFFSETTO:-0600
RDATE:20261101T020000
END:STANDARD
BEGIN:DAYLIGHT
TZNAME:CDT
DTSTART:20250309T020000
TZOFFSETFROM:-0600
TZOFFSETTO:-0500
RDATE:20260308T020000
RDATE:20270314T020000
END:DAYLIGHT
END:VTIMEZONE
BEGIN:VEVENT
UID:0e87c673-26a3-49ee-baaa-d121869fa526
DTSTAMP:20260421T233737Z
DESCRIPTION:Welcome to the January 2026 meeting of TU Maker Club at Fab Lab
  Tulsa.  This is an event for TU Students.  We will be making bag tags and
  key chains.   If you are interested in joining us\, please RSVP by reserv
 ing a free ticket here.
DTSTART;TZID=America/Chicago:20260204T163000
DTEND;TZID=America/Chicago:20260204T190000
LOCATION:501 South Lewis Avenue\, Tulsa\, OK 74104 US
SUMMARY:TU Maker Club at Fab Lab - January 2026 Meeting
END:VEVENT
END:VCALENDAR
