BEGIN:VCALENDAR
VERSION:2.0
PRODID:-//fablabtulsa.org//NONSGML kigkonsult.se iCalcreator 2.30.10//
CALSCALE:GREGORIAN
METHOD:PUBLISH
UID:05ae0633-ffb0-48be-890f-e450f9039ca6
X-WR-CALDESC:
X-WR-RELCALID:01675a501f161a33a65a00412d47197b
X-WR-TIMEZONE:America/Chicago
BEGIN:VTIMEZONE
TZID:America/Chicago
BEGIN:STANDARD
TZNAME:CST
DTSTART:20251102T020000
TZOFFSETFROM:-0500
TZOFFSETTO:-0600
RDATE:20261101T020000
END:STANDARD
BEGIN:DAYLIGHT
TZNAME:CDT
DTSTART:20250309T020000
TZOFFSETFROM:-0600
TZOFFSETTO:-0500
RDATE:20260308T020000
RDATE:20270314T020000
END:DAYLIGHT
END:VTIMEZONE
BEGIN:VEVENT
UID:8e88e3f4-066a-4950-a92a-603c3dbfe262
DTSTAMP:20260422T012612Z
DESCRIPTION:
DTSTART;TZID=America/Chicago:20260107T170000
DTEND;TZID=America/Chicago:20260107T190000
LOCATION:501 S Lewis Ave
SUMMARY:2D Drawing Class/Seminar - Come learn how to draw for Fab Lab Proje
 cts!
END:VEVENT
END:VCALENDAR
