BEGIN:VCALENDAR
VERSION:2.0
PRODID:-//fablabtulsa.org//NONSGML kigkonsult.se iCalcreator 2.30.10//
CALSCALE:GREGORIAN
METHOD:PUBLISH
UID:ee12106c-d1f2-40df-9e3d-f8180e7e9739
X-WR-CALDESC:
X-WR-RELCALID:2b9b7dacff977050c6e1da93d0850e12
X-WR-TIMEZONE:America/Chicago
BEGIN:VTIMEZONE
TZID:America/Chicago
BEGIN:STANDARD
TZNAME:CST
DTSTART:20251102T020000
TZOFFSETFROM:-0500
TZOFFSETTO:-0600
RDATE:20261101T020000
END:STANDARD
BEGIN:DAYLIGHT
TZNAME:CDT
DTSTART:20250309T020000
TZOFFSETFROM:-0600
TZOFFSETTO:-0500
RDATE:20260308T020000
RDATE:20270314T020000
END:DAYLIGHT
END:VTIMEZONE
BEGIN:VEVENT
UID:6e52b3b6-ab0f-4ae5-84a1-4c0d7a453e47
DTSTAMP:20260422T035339Z
DESCRIPTION:
DTSTART;TZID=America/Chicago:20251224T050000
DTEND;TZID=America/Chicago:20260101T050001
LOCATION:
SUMMARY:Holiday Break - Closed
END:VEVENT
END:VCALENDAR
