BEGIN:VCALENDAR
VERSION:2.0
PRODID:-//fablabtulsa.org//NONSGML kigkonsult.se iCalcreator 2.30.10//
CALSCALE:GREGORIAN
METHOD:PUBLISH
UID:31bb6e40-0548-4751-aeea-3edc6dff7397
X-WR-CALDESC:FLT's new 3D design in-person class.  Come learn to draw in 3D
  using Fusion products.
X-WR-RELCALID:0e771ce8ddb9082e1225ba670f7114da
X-WR-TIMEZONE:America/Chicago
BEGIN:VTIMEZONE
TZID:America/Chicago
BEGIN:STANDARD
TZNAME:CST
DTSTART:20251102T020000
TZOFFSETFROM:-0500
TZOFFSETTO:-0600
RDATE:20261101T020000
END:STANDARD
BEGIN:DAYLIGHT
TZNAME:CDT
DTSTART:20250309T020000
TZOFFSETFROM:-0600
TZOFFSETTO:-0500
RDATE:20260308T020000
RDATE:20270314T020000
END:DAYLIGHT
END:VTIMEZONE
BEGIN:VEVENT
UID:1b765f7b-6fee-4acc-86fb-761fd3a27f31
DTSTAMP:20260422T032122Z
DESCRIPTION:FLT's new 3D design in-person class.  Come learn to draw in 3D 
 using Fusion products.
DTSTART;TZID=America/Chicago:20251204T170000
DTEND;TZID=America/Chicago:20251204T190000
LOCATION:501 S Lewis Ave
SUMMARY:3D Design Class In Person Class
END:VEVENT
END:VCALENDAR
