BEGIN:VCALENDAR
VERSION:2.0
PRODID:-//fablabtulsa.org//NONSGML kigkonsult.se iCalcreator 2.30.10//
CALSCALE:GREGORIAN
METHOD:PUBLISH
UID:4251312c-a767-4721-85b1-e5a1798a861d
X-WR-CALDESC:
X-WR-RELCALID:94a683374cd1e88b7e06731892e85108
X-WR-TIMEZONE:America/Chicago
BEGIN:VTIMEZONE
TZID:America/Chicago
BEGIN:STANDARD
TZNAME:CST
DTSTART:20251102T020000
TZOFFSETFROM:-0500
TZOFFSETTO:-0600
RDATE:20261101T020000
END:STANDARD
BEGIN:DAYLIGHT
TZNAME:CDT
DTSTART:20250309T020000
TZOFFSETFROM:-0600
TZOFFSETTO:-0500
RDATE:20260308T020000
RDATE:20270314T020000
END:DAYLIGHT
END:VTIMEZONE
BEGIN:VEVENT
UID:7b2f6906-4bb7-45cf-84bf-9fa285587818
DTSTAMP:20260422T034148Z
DESCRIPTION:
DTSTART;TZID=America/Chicago:20251203T170000
DTEND;TZID=America/Chicago:20251203T190000
LOCATION:501 S Lewis Ave
SUMMARY:2D Drawing Class/Seminar - Come learn how to draw for Fab Lab Proje
 cts!
END:VEVENT
END:VCALENDAR
