BEGIN:VCALENDAR
VERSION:2.0
PRODID:-//fablabtulsa.org//NONSGML kigkonsult.se iCalcreator 2.30.10//
CALSCALE:GREGORIAN
METHOD:PUBLISH
UID:e1c35309-e903-469b-8c9d-f4e2457c3be7
X-WR-CALDESC:
X-WR-RELCALID:30dd0b408194c7532b9936c2b62c6a76
X-WR-TIMEZONE:America/Chicago
BEGIN:VTIMEZONE
TZID:America/Chicago
BEGIN:STANDARD
TZNAME:CST
DTSTART:20251102T020000
TZOFFSETFROM:-0500
TZOFFSETTO:-0600
RDATE:20261101T020000
END:STANDARD
BEGIN:DAYLIGHT
TZNAME:CDT
DTSTART:20250309T020000
TZOFFSETFROM:-0600
TZOFFSETTO:-0500
RDATE:20260308T020000
RDATE:20270314T020000
END:DAYLIGHT
END:VTIMEZONE
BEGIN:VEVENT
UID:9dd3d98c-8ee5-41bb-a862-9dd5dc5d9dd4
DTSTAMP:20260422T050708Z
DESCRIPTION:
DTSTART;TZID=America/Chicago:20251127T050000
DTEND;TZID=America/Chicago:20251201T050001
LOCATION:
SUMMARY:Thanksgiving Holiday - Lab Closed
END:VEVENT
END:VCALENDAR
