BEGIN:VCALENDAR
VERSION:2.0
PRODID:-//fablabtulsa.org//NONSGML kigkonsult.se iCalcreator 2.30.10//
CALSCALE:GREGORIAN
METHOD:PUBLISH
UID:ab4b5ce3-d102-4990-89e6-28821c25e52a
X-WR-CALDESC:This Make and Take event is one of our first experiences avail
 able with AI at Fab Lab Tulsa!  We will utilize ADOBE EXPRESS AI to edit o
 ne of your own Photos\, then use the UV Printer to have a keepsake print o
 f your fur buddy\, or your buddy!\n\nFab Lab's UV Printer is one of our mo
 st popular machines\, with the ability to print full color onto most flat 
 surfaces!  The workshop will include a class\, a photo frame provided by F
 LT\, and printing time.  Bring your own photo to edit!
X-WR-RELCALID:5b673b1e2faea083e34112840a951f44
X-WR-TIMEZONE:America/Chicago
BEGIN:VTIMEZONE
TZID:America/Chicago
BEGIN:STANDARD
TZNAME:CST
DTSTART:20251102T020000
TZOFFSETFROM:-0500
TZOFFSETTO:-0600
RDATE:20261101T020000
END:STANDARD
BEGIN:DAYLIGHT
TZNAME:CDT
DTSTART:20250309T020000
TZOFFSETFROM:-0600
TZOFFSETTO:-0500
RDATE:20260308T020000
RDATE:20270314T020000
END:DAYLIGHT
END:VTIMEZONE
BEGIN:VEVENT
UID:aab27a92-bf59-4fb0-bbea-4b2d9cb3902f
DTSTAMP:20260422T050410Z
DESCRIPTION:This Make and Take event is one of our first experiences availa
 ble with AI at Fab Lab Tulsa!  We will utilize ADOBE EXPRESS AI to edit on
 e of your own Photos\, then use the UV Printer to have a keepsake print of
  your fur buddy\, or your buddy!\n\nFab Lab's UV Printer is one of our mos
 t popular machines\, with the ability to print full color onto most flat s
 urfaces!  The workshop will include a class\, a photo frame provided by FL
 T\, and printing time.  Bring your own photo to edit!
DTSTART;TZID=America/Chicago:20251122T100000
DTEND;TZID=America/Chicago:20251122T120000
LOCATION:Fab Lab Tulsa\, 501 S Lewis Ave\, Tulsa\, Ok\, 74104
SUMMARY:Make and Take - AI Photo Prints
END:VEVENT
END:VCALENDAR
