BEGIN:VCALENDAR
VERSION:2.0
PRODID:-//fablabtulsa.org//NONSGML kigkonsult.se iCalcreator 2.30.10//
CALSCALE:GREGORIAN
METHOD:PUBLISH
UID:389d261a-2402-4e3c-8004-8fd16f551c7c
X-WR-CALDESC:Welcome to the 3rd meeting of TU Maker Club at Fab Lab Tulsa. 
  This is an event for TU Students.  We will be making personalized acrylic
  and wood laser signs.   If you are interested in joining us\, please RSVP
  by reserving a free ticket here.
X-WR-RELCALID:1b53a7903efab56c5d9bf2e8103aad56
X-WR-TIMEZONE:America/Chicago
BEGIN:VTIMEZONE
TZID:America/Chicago
BEGIN:STANDARD
TZNAME:CST
DTSTART:20251102T020000
TZOFFSETFROM:-0500
TZOFFSETTO:-0600
RDATE:20261101T020000
END:STANDARD
BEGIN:DAYLIGHT
TZNAME:CDT
DTSTART:20250309T020000
TZOFFSETFROM:-0600
TZOFFSETTO:-0500
RDATE:20260308T020000
RDATE:20270314T020000
END:DAYLIGHT
END:VTIMEZONE
BEGIN:VEVENT
UID:e9b82ac0-6f39-4c0e-a908-93ad178a671f
DTSTAMP:20260422T051956Z
DESCRIPTION:Welcome to the 3rd meeting of TU Maker Club at Fab Lab Tulsa.  
 This is an event for TU Students.  We will be making personalized acrylic 
 and wood laser signs.   If you are interested in joining us\, please RSVP 
 by reserving a free ticket here.
DTSTART;TZID=America/Chicago:20251120T163000
DTEND;TZID=America/Chicago:20251120T190000
LOCATION:501 South Lewis Avenue\, Tulsa\, AL 74104 US
SUMMARY:TU Maker Club at Fab Lab - 3rd Meeting 2025/26
END:VEVENT
END:VCALENDAR
