BEGIN:VCALENDAR
VERSION:2.0
PRODID:-//fablabtulsa.org//NONSGML kigkonsult.se iCalcreator 2.30.10//
CALSCALE:GREGORIAN
METHOD:PUBLISH
UID:e9ca108b-4e72-4fbe-b8d5-8f437d0ce9f6
X-WR-CALDESC:Member Class.  Register for class through Member Portal powere
 d by MindBody.
X-WR-RELCALID:182e05ccc028c7efec07b4bfc7e3a5eb
X-WR-TIMEZONE:America/Chicago
BEGIN:VTIMEZONE
TZID:America/Chicago
BEGIN:STANDARD
TZNAME:CST
DTSTART:20251102T020000
TZOFFSETFROM:-0500
TZOFFSETTO:-0600
RDATE:20261101T020000
END:STANDARD
BEGIN:DAYLIGHT
TZNAME:CDT
DTSTART:20250309T020000
TZOFFSETFROM:-0600
TZOFFSETTO:-0500
RDATE:20260308T020000
RDATE:20270314T020000
END:DAYLIGHT
END:VTIMEZONE
BEGIN:VEVENT
UID:e7ce67b4-07b5-4ad1-bab8-c25c8c8d8bd0
DTSTAMP:20260422T053137Z
DESCRIPTION:Member Class.  Register for class through Member Portal powered
  by MindBody.
DTSTART;TZID=America/Chicago:20251115T130000
DTEND;TZID=America/Chicago:20251115T160000
LOCATION:501 S Lewis Ave\, Tulsa\, OK 74104 US
SUMMARY:Class - Plasma Cutter Basics
END:VEVENT
END:VCALENDAR
