BEGIN:VCALENDAR
VERSION:2.0
PRODID:-//fablabtulsa.org//NONSGML kigkonsult.se iCalcreator 2.30.10//
CALSCALE:GREGORIAN
METHOD:PUBLISH
UID:36d923d1-9955-44c5-8164-143cbf7e1def
X-WR-CALDESC:FLT's new 3D design in-person class.  Come learn to draw in 3D
  using Fusion products.
X-WR-RELCALID:e63e9061408f47558cdc8fe29ce682e2
X-WR-TIMEZONE:America/Chicago
BEGIN:VTIMEZONE
TZID:America/Chicago
BEGIN:STANDARD
TZNAME:CST
DTSTART:20251102T020000
TZOFFSETFROM:-0500
TZOFFSETTO:-0600
RDATE:20261101T020000
END:STANDARD
BEGIN:DAYLIGHT
TZNAME:CDT
DTSTART:20250309T020000
TZOFFSETFROM:-0600
TZOFFSETTO:-0500
RDATE:20260308T020000
RDATE:20270314T020000
END:DAYLIGHT
END:VTIMEZONE
BEGIN:VEVENT
UID:a7e23ae5-d570-443e-98e5-13b1639679b6
DTSTAMP:20260422T050538Z
DESCRIPTION:FLT's new 3D design in-person class.  Come learn to draw in 3D 
 using Fusion products.
DTSTART;TZID=America/Chicago:20251106T170000
DTEND;TZID=America/Chicago:20251106T190000
LOCATION:501 S Lewis Ave
SUMMARY:3D Design Class In Person Class  (Copy)
END:VEVENT
END:VCALENDAR
