BEGIN:VCALENDAR
VERSION:2.0
PRODID:-//fablabtulsa.org//NONSGML kigkonsult.se iCalcreator 2.30.10//
CALSCALE:GREGORIAN
METHOD:PUBLISH
UID:e275fd31-de49-40ce-8420-29cac290486c
X-WR-CALDESC:Welcome to the 2nd meeting of U Tulsa Maker Club at Fab Lab Tu
 lsa.  This is an event for TU Students.  We will be making personalized ed
 ge-lit signs with your design laser engraved on the acrylic.   If you are 
 interested in joining us\, please RSVP by reserving a free ticket here.
X-WR-RELCALID:fbdb023bc4d05baae0d26899c595971e
X-WR-TIMEZONE:America/Chicago
BEGIN:VTIMEZONE
TZID:America/Chicago
BEGIN:STANDARD
TZNAME:CST
DTSTART:20241103T020000
TZOFFSETFROM:-0500
TZOFFSETTO:-0600
RDATE:20251102T020000
RDATE:20261101T020000
END:STANDARD
BEGIN:DAYLIGHT
TZNAME:CDT
DTSTART:20250309T020000
TZOFFSETFROM:-0600
TZOFFSETTO:-0500
RDATE:20260308T020000
RDATE:20270314T020000
END:DAYLIGHT
END:VTIMEZONE
BEGIN:VEVENT
UID:63a75cad-546b-47d0-8a08-f4e698894c51
DTSTAMP:20260422T070910Z
DESCRIPTION:Welcome to the 2nd meeting of U Tulsa Maker Club at Fab Lab Tul
 sa.  This is an event for TU Students.  We will be making personalized edg
 e-lit signs with your design laser engraved on the acrylic.   If you are i
 nterested in joining us\, please RSVP by reserving a free ticket here.
DTSTART;TZID=America/Chicago:20251030T163000
DTEND;TZID=America/Chicago:20251030T190000
LOCATION:501 South Lewis Avenue\, Tulsa\, AL 74104 US
SUMMARY:TU Maker Club at Fab Lab - 2nd Meeting 2025/26
END:VEVENT
END:VCALENDAR
