BEGIN:VCALENDAR
VERSION:2.0
PRODID:-//fablabtulsa.org//NONSGML kigkonsult.se iCalcreator 2.30.10//
CALSCALE:GREGORIAN
METHOD:PUBLISH
UID:1011d88e-4714-4b34-9e5a-aa3c86098c2d
X-WR-CALDESC:Welcome to the first meeting of TU Maker Club at Fab Lab Tulsa
 .  This is an event for TU Students.  We will be making personalized mouse
  pads and organizing the club for the coming year.   If you are interested
  in joining us\, please RSVP by reserving a free ticket here.
X-WR-RELCALID:61c403eb6e304d2423c4e5c8cc058aba
X-WR-TIMEZONE:America/Chicago
BEGIN:VTIMEZONE
TZID:America/Chicago
BEGIN:STANDARD
TZNAME:CST
DTSTART:20241103T020000
TZOFFSETFROM:-0500
TZOFFSETTO:-0600
RDATE:20251102T020000
RDATE:20261101T020000
END:STANDARD
BEGIN:DAYLIGHT
TZNAME:CDT
DTSTART:20250309T020000
TZOFFSETFROM:-0600
TZOFFSETTO:-0500
RDATE:20260308T020000
RDATE:20270314T020000
END:DAYLIGHT
END:VTIMEZONE
BEGIN:VEVENT
UID:ff9ec1fa-cb9f-43d5-ba1a-b68678429ad9
DTSTAMP:20260422T085540Z
DESCRIPTION:Welcome to the first meeting of TU Maker Club at Fab Lab Tulsa.
   This is an event for TU Students.  We will be making personalized mouse 
 pads and organizing the club for the coming year.   If you are interested 
 in joining us\, please RSVP by reserving a free ticket here.
DTSTART;TZID=America/Chicago:20250925T163000
DTEND;TZID=America/Chicago:20250925T190000
LOCATION:501 South Lewis Avenue\, Tulsa\, AL 74104 US
SUMMARY:TU Maker Club at Fab Lab - 1st Meeting 2025/26
END:VEVENT
END:VCALENDAR
