BEGIN:VCALENDAR
VERSION:2.0
PRODID:-//fablabtulsa.org//NONSGML kigkonsult.se iCalcreator 2.30.10//
CALSCALE:GREGORIAN
METHOD:PUBLISH
UID:10f848a4-60a9-437b-be0e-384f5a801709
X-WR-CALDESC:
X-WR-RELCALID:f252889b0b6b53fe34155065255c24c6
X-WR-TIMEZONE:America/Chicago
BEGIN:VTIMEZONE
TZID:America/Chicago
BEGIN:STANDARD
TZNAME:CST
DTSTART:20241103T020000
TZOFFSETFROM:-0500
TZOFFSETTO:-0600
RDATE:20251102T020000
RDATE:20261101T020000
END:STANDARD
BEGIN:DAYLIGHT
TZNAME:CDT
DTSTART:20250309T020000
TZOFFSETFROM:-0600
TZOFFSETTO:-0500
RDATE:20260308T020000
END:DAYLIGHT
END:VTIMEZONE
BEGIN:VEVENT
UID:bc1077eb-5d4e-43e1-9e37-cfa45f89a4ce
DTSTAMP:20260422T092522Z
DESCRIPTION:
DTSTART;TZID=America/Chicago:20250901T050000
DTEND;TZID=America/Chicago:20250901T050001
LOCATION:501 S Lewis Avenue\, Tulsa\, OK 74104 US
SUMMARY:Labor Day Holiday
END:VEVENT
END:VCALENDAR
