BEGIN:VCALENDAR
VERSION:2.0
PRODID:-//fablabtulsa.org//NONSGML kigkonsult.se iCalcreator 2.30.10//
CALSCALE:GREGORIAN
METHOD:PUBLISH
UID:751acb57-5a85-4cbb-87b7-543d9d2891d8
X-WR-CALDESC:
X-WR-RELCALID:89a1a2e25157f0d0d110c91899a6f79f
X-WR-TIMEZONE:America/Chicago
BEGIN:VTIMEZONE
TZID:America/Chicago
BEGIN:STANDARD
TZNAME:CST
DTSTART:20241103T020000
TZOFFSETFROM:-0500
TZOFFSETTO:-0600
RDATE:20251102T020000
RDATE:20261101T020000
END:STANDARD
BEGIN:DAYLIGHT
TZNAME:CDT
DTSTART:20250309T020000
TZOFFSETFROM:-0600
TZOFFSETTO:-0500
RDATE:20260308T020000
END:DAYLIGHT
END:VTIMEZONE
BEGIN:VEVENT
UID:700b05d7-017a-4940-a97a-81e4c2a9d8f4
DTSTAMP:20260422T104829Z
DESCRIPTION:
DTSTART;TZID=America/Chicago:20250830T050000
DTEND;TZID=America/Chicago:20250830T050001
LOCATION:501 S Lewis Ave\, Tulsa\, OK 74104 US
SUMMARY:Labor Day Weekend - Lab Closed
END:VEVENT
END:VCALENDAR
