BEGIN:VCALENDAR
VERSION:2.0
PRODID:-//fablabtulsa.org//NONSGML kigkonsult.se iCalcreator 2.30.10//
CALSCALE:GREGORIAN
METHOD:PUBLISH
UID:6f7ca3e2-616f-442e-8dcf-940073c0b356
X-WR-CALDESC:
X-WR-RELCALID:c6df34b0f966481cba36137538892b94
X-WR-TIMEZONE:America/Chicago
BEGIN:VTIMEZONE
TZID:America/Chicago
BEGIN:STANDARD
TZNAME:CST
DTSTART:20241103T020000
TZOFFSETFROM:-0500
TZOFFSETTO:-0600
RDATE:20251102T020000
RDATE:20261101T020000
END:STANDARD
BEGIN:DAYLIGHT
TZNAME:CDT
DTSTART:20250309T020000
TZOFFSETFROM:-0600
TZOFFSETTO:-0500
RDATE:20260308T020000
END:DAYLIGHT
END:VTIMEZONE
BEGIN:VEVENT
UID:fdc20307-e55f-4cbd-a6d4-be1b0031b89a
DTSTAMP:20260422T105549Z
DESCRIPTION:
DTSTART;TZID=America/Chicago:20250821T050000
DTEND;TZID=America/Chicago:20250823T050001
LOCATION:501 S Lewis Ave\, Tulsa\, OK 74104 US
SUMMARY:Maker Faire Tulsa - Lab Closed
END:VEVENT
END:VCALENDAR
