BEGIN:VCALENDAR
VERSION:2.0
PRODID:-//fablabtulsa.org//NONSGML kigkonsult.se iCalcreator 2.30.10//
CALSCALE:GREGORIAN
METHOD:PUBLISH
UID:2f4a0fc6-fd61-4689-863d-8925daff2e98
X-WR-CALDESC:Member Class.  Register for class through Member Portal powere
 d by MindBody.
X-WR-RELCALID:3a2616b97d9c1fbed0fb30650ea89731
X-WR-TIMEZONE:America/Chicago
BEGIN:VTIMEZONE
TZID:America/Chicago
BEGIN:STANDARD
TZNAME:CST
DTSTART:20241103T020000
TZOFFSETFROM:-0500
TZOFFSETTO:-0600
RDATE:20251102T020000
RDATE:20261101T020000
END:STANDARD
BEGIN:DAYLIGHT
TZNAME:CDT
DTSTART:20250309T020000
TZOFFSETFROM:-0600
TZOFFSETTO:-0500
RDATE:20260308T020000
END:DAYLIGHT
END:VTIMEZONE
BEGIN:VEVENT
UID:71de31ad-0e1d-45fe-8845-bf14b189deb9
DTSTAMP:20260422T105518Z
DESCRIPTION:Member Class.  Register for class through Member Portal powered
  by MindBody.
DTSTART;TZID=America/Chicago:20250809T100000
DTEND;TZID=America/Chicago:20250809T120000
LOCATION:501 S Lewis Ave\, Tulsa\, OK 74104 US
SUMMARY:Class - Manual Metalworking Machinery
END:VEVENT
END:VCALENDAR
