BEGIN:VCALENDAR
VERSION:2.0
PRODID:-//fablabtulsa.org//NONSGML kigkonsult.se iCalcreator 2.30.10//
CALSCALE:GREGORIAN
METHOD:PUBLISH
UID:6eedaf38-e14b-4c3b-a06f-f0f2b7fdb3e5
X-WR-CALDESC:CAMP DESCRIPTION: Get ready to dive into the exciting world of
  coding\, electronics\, and robotics. The Bot-Builders summer camp is the 
 perfect opportunity to experience new technology in a hands-on\, immersive
  environment. Participants will learn the fundamentals of coding using Mic
 rosoft Make Code and the BBC micro:bit microcontroller\, which they'll tak
 e home with them after the camp. Projects will include animations and game
 s\, and progress to more complex programs to build and control sensors and
  Lego style robots. Don't miss this great adventure to unlock your coding 
 skills together with real world of robots!\n\nAGES: 10-15\n\nDATE & TIME: 
 Half-day camps for Session 2 run from 7/21/25 through 7/25/25 9:00am-12:00
 pm. Early drop-off begins at 8:30am each day.\n\nCOST: $235 per student.\n
 \nINSTRUCTIONS: Click REGISTER NOW at the top right of the screen to sign 
 up.\n\nDEADLINE: Registration closes on June 30\, 2025
X-WR-RELCALID:61c00bc732583485941458f3ab692589
X-WR-TIMEZONE:America/Chicago
BEGIN:VTIMEZONE
TZID:America/Chicago
BEGIN:STANDARD
TZNAME:CST
DTSTART:20241103T020000
TZOFFSETFROM:-0500
TZOFFSETTO:-0600
RDATE:20251102T020000
RDATE:20261101T020000
END:STANDARD
BEGIN:DAYLIGHT
TZNAME:CDT
DTSTART:20250309T020000
TZOFFSETFROM:-0600
TZOFFSETTO:-0500
RDATE:20260308T020000
END:DAYLIGHT
END:VTIMEZONE
BEGIN:VEVENT
UID:0ea0029e-81d9-4c4d-8e02-cbb861f91720
DTSTAMP:20260422T124731Z
DESCRIPTION:CAMP DESCRIPTION: Get ready to dive into the exciting world of 
 coding\, electronics\, and robotics. The Bot-Builders summer camp is the p
 erfect opportunity to experience new technology in a hands-on\, immersive 
 environment. Participants will learn the fundamentals of coding using Micr
 osoft Make Code and the BBC micro:bit microcontroller\, which they'll take
  home with them after the camp. Projects will include animations and games
 \, and progress to more complex programs to build and control sensors and 
 Lego style robots. Don't miss this great adventure to unlock your coding s
 kills together with real world of robots!\n\nAGES: 10-15\n\nDATE & TIME: H
 alf-day camps for Session 2 run from 7/21/25 through 7/25/25 9:00am-12:00p
 m. Early drop-off begins at 8:30am each day.\n\nCOST: $235 per student.\n
 \nINSTRUCTIONS: Click REGISTER NOW at the top right of the screen to sign 
 up.\n\nDEADLINE: Registration closes on June 30\, 2025
DTSTART;TZID=America/Chicago:20250721T090000
DTEND;TZID=America/Chicago:20250725T120000
LOCATION:501 S Lewis Avenue \, Tulsa\, AL 74104 US
SUMMARY:Bot-Builders Summer Camp - Session 2
END:VEVENT
END:VCALENDAR
