BEGIN:VCALENDAR
VERSION:2.0
PRODID:-//fablabtulsa.org//NONSGML kigkonsult.se iCalcreator 2.30.10//
CALSCALE:GREGORIAN
METHOD:PUBLISH
UID:0a2a98c7-2f40-448b-b3f8-d3113dce4fb8
X-WR-CALDESC:
X-WR-RELCALID:68f6b14f79577b0ad7ff237375ed89b5
X-WR-TIMEZONE:America/Chicago
BEGIN:VTIMEZONE
TZID:America/Chicago
BEGIN:STANDARD
TZNAME:CST
DTSTART:20241103T020000
TZOFFSETFROM:-0500
TZOFFSETTO:-0600
RDATE:20251102T020000
RDATE:20261101T020000
END:STANDARD
BEGIN:DAYLIGHT
TZNAME:CDT
DTSTART:20250309T020000
TZOFFSETFROM:-0600
TZOFFSETTO:-0500
RDATE:20260308T020000
END:DAYLIGHT
END:VTIMEZONE
BEGIN:VEVENT
UID:fc5d7842-0186-4a5e-b9c2-369b688e7372
DTSTAMP:20260422T123011Z
DESCRIPTION:
DTSTART;TZID=America/Chicago:20250701T050000
DTEND;TZID=America/Chicago:20250705T050001
LOCATION:501 S Lewis Ave\, Tulsa\, OK 74104 US
SUMMARY:Independence Day Holiday - Lab Closed
END:VEVENT
END:VCALENDAR
