BEGIN:VCALENDAR
VERSION:2.0
PRODID:-//fablabtulsa.org//NONSGML kigkonsult.se iCalcreator 2.30.10//
CALSCALE:GREGORIAN
METHOD:PUBLISH
UID:a922e66e-f8d4-4332-9593-7ebf72ed9ac8
X-WR-CALDESC:
X-WR-RELCALID:f36944671fc6b2fef7ea7ac870686073
X-WR-TIMEZONE:America/Chicago
BEGIN:VTIMEZONE
TZID:America/Chicago
BEGIN:STANDARD
TZNAME:CST
DTSTART:20241103T020000
TZOFFSETFROM:-0500
TZOFFSETTO:-0600
RDATE:20251102T020000
RDATE:20261101T020000
END:STANDARD
BEGIN:DAYLIGHT
TZNAME:CDT
DTSTART:20250309T020000
TZOFFSETFROM:-0600
TZOFFSETTO:-0500
RDATE:20260308T020000
END:DAYLIGHT
END:VTIMEZONE
BEGIN:VEVENT
UID:92023203-4927-478d-a67a-3c41416cde9f
DTSTAMP:20260422T142853Z
DESCRIPTION:
DTSTART;TZID=America/Chicago:20250619T050000
DTEND;TZID=America/Chicago:20250619T050001
LOCATION:501 S Lewis Ave\, Tulsa\, OK 74104 US
SUMMARY:Juneteenth Holiday
END:VEVENT
END:VCALENDAR
