BEGIN:VCALENDAR
VERSION:2.0
PRODID:-//fablabtulsa.org//NONSGML kigkonsult.se iCalcreator 2.30.10//
CALSCALE:GREGORIAN
METHOD:PUBLISH
UID:535f4d4e-df6b-47ae-9377-4ce643840909
X-WR-CALDESC:CAMP DESCRIPTION: This week-long summer 'Future Fab Fashion' c
 amp will explore a variety of methods of creating wearables using digital 
 design techniques and materials. Create jewelry\, charms\, and bag tags ut
 ilizing our CO2 lasers and UV Printers. Design textiles and patches with c
 ustom thermal vinyl\, stencils\, and cyanotypes. Learn the basics of Fab L
 abs equipment to personalize your own wardrobe in a variety of ways. Campe
 rs will end the week by utilizing and combining any of the learned techniq
 ues to create and upcycle their own FABulous creations.\n\nAGES: 10-15\n\n
 DATE & TIME: Half-day camps for Session 1 run from 6/9/25 through 6/13/25 
 9:00am-12:00pm. Early drop-off begins at 8:30am each day.\n\nCOST: $195 pe
 r student.\n\nINSTRUCTIONS: Click REGISTER NOW at the top right of the scr
 een to sign up.\n\nDEADLINE: Registration closes on May 31\, 2025
X-WR-RELCALID:f9e2da02aca3278dcf2bd7d05c1913a2
X-WR-TIMEZONE:America/Chicago
BEGIN:VTIMEZONE
TZID:America/Chicago
BEGIN:STANDARD
TZNAME:CST
DTSTART:20241103T020000
TZOFFSETFROM:-0500
TZOFFSETTO:-0600
RDATE:20251102T020000
RDATE:20261101T020000
END:STANDARD
BEGIN:DAYLIGHT
TZNAME:CDT
DTSTART:20250309T020000
TZOFFSETFROM:-0600
TZOFFSETTO:-0500
RDATE:20260308T020000
END:DAYLIGHT
END:VTIMEZONE
BEGIN:VEVENT
UID:8cdc7892-b64a-497d-a34c-cbb643037524
DTSTAMP:20260422T143541Z
DESCRIPTION:CAMP DESCRIPTION: This week-long summer 'Future Fab Fashion' ca
 mp will explore a variety of methods of creating wearables using digital d
 esign techniques and materials. Create jewelry\, charms\, and bag tags uti
 lizing our CO2 lasers and UV Printers. Design textiles and patches with cu
 stom thermal vinyl\, stencils\, and cyanotypes. Learn the basics of Fab La
 bs equipment to personalize your own wardrobe in a variety of ways. Camper
 s will end the week by utilizing and combining any of the learned techniqu
 es to create and upcycle their own FABulous creations.\n\nAGES: 10-15\n\nD
 ATE & TIME: Half-day camps for Session 1 run from 6/9/25 through 6/13/25 9
 :00am-12:00pm. Early drop-off begins at 8:30am each day.\n\nCOST: $195 per
  student.\n\nINSTRUCTIONS: Click REGISTER NOW at the top right of the scre
 en to sign up.\n\nDEADLINE: Registration closes on May 31\, 2025
DTSTART;TZID=America/Chicago:20250609T090000
DTEND;TZID=America/Chicago:20250613T120000
LOCATION:501 S Lewis Avenue \, Tulsa\, OK 74104 US
SUMMARY:Future Fab Fashion Summer Camp - Session 1
END:VEVENT
END:VCALENDAR
