BEGIN:VCALENDAR
VERSION:2.0
PRODID:-//fablabtulsa.org//NONSGML kigkonsult.se iCalcreator 2.30.10//
CALSCALE:GREGORIAN
METHOD:PUBLISH
UID:a383a93d-6130-48e5-b809-ef2e0c619f58
X-WR-CALDESC:
X-WR-RELCALID:c5a494d3934b1499d58a8aeaf530a97d
X-WR-TIMEZONE:America/Chicago
BEGIN:VTIMEZONE
TZID:America/Chicago
BEGIN:STANDARD
TZNAME:CST
DTSTART:20241103T020000
TZOFFSETFROM:-0500
TZOFFSETTO:-0600
RDATE:20251102T020000
RDATE:20261101T020000
END:STANDARD
BEGIN:DAYLIGHT
TZNAME:CDT
DTSTART:20250309T020000
TZOFFSETFROM:-0600
TZOFFSETTO:-0500
RDATE:20260308T020000
END:DAYLIGHT
END:VTIMEZONE
BEGIN:VEVENT
UID:287bcce3-c705-4928-bd84-96a73f1ec1cc
DTSTAMP:20260422T163926Z
DESCRIPTION:
DTSTART;TZID=America/Chicago:20250509T050000
DTEND;TZID=America/Chicago:20250510T050001
LOCATION:501 S Lewis Ave\, Tulsa\, OK 74104 US
SUMMARY:MayFest - Lab Closed
END:VEVENT
END:VCALENDAR
