BEGIN:VCALENDAR
VERSION:2.0
PRODID:-//fablabtulsa.org//NONSGML kigkonsult.se iCalcreator 2.30.10//
CALSCALE:GREGORIAN
METHOD:PUBLISH
UID:2bd31a98-0607-4295-a6e6-653668a60baa
X-WR-CALDESC:This Make and Take event has multiple steps:  We will cut\, sh
 ape\, and sand our cubes first. Then\, we will laser etch the dice pips on
 to the cubes.  To end\, we will either copy or create our own score sheet 
 for lamination and outdoor fun!\n\nAttendees must be ages 7 and up to util
 ize the tooling in our wood lab.
X-WR-RELCALID:89660a5e67134617b11508221486cea7
X-WR-TIMEZONE:America/Chicago
BEGIN:VTIMEZONE
TZID:America/Chicago
BEGIN:STANDARD
TZNAME:CST
DTSTART:20241103T020000
TZOFFSETFROM:-0500
TZOFFSETTO:-0600
RDATE:20251102T020000
END:STANDARD
BEGIN:DAYLIGHT
TZNAME:CDT
DTSTART:20250309T020000
TZOFFSETFROM:-0600
TZOFFSETTO:-0500
RDATE:20260308T020000
END:DAYLIGHT
END:VTIMEZONE
BEGIN:VEVENT
UID:35886483-0432-422e-9240-90158103ae79
DTSTAMP:20260422T180613Z
DESCRIPTION:This Make and Take event has multiple steps:  We will cut\, sha
 pe\, and sand our cubes first. Then\, we will laser etch the dice pips ont
 o the cubes.  To end\, we will either copy or create our own score sheet f
 or lamination and outdoor fun!\n\nAttendees must be ages 7 and up to utili
 ze the tooling in our wood lab.
DTSTART;TZID=America/Chicago:20250426T100000
DTEND;TZID=America/Chicago:20250426T120000
LOCATION:Fab Lab Tulsa\, 501 S Lewis Ave\, Tulsa\, Ok\, 74104
SUMMARY:Make and Take - Yard Yahtzee
END:VEVENT
END:VCALENDAR
