BEGIN:VCALENDAR
VERSION:2.0
PRODID:-//fablabtulsa.org//NONSGML kigkonsult.se iCalcreator 2.30.10//
CALSCALE:GREGORIAN
METHOD:PUBLISH
UID:29585d23-c1d0-45dc-b881-9036cb37a316
X-WR-CALDESC:You are invited to the 3rd and final Spring meeting of TU Make
 r Club at Fab Lab Tulsa.  This is an event for TU Students.  We will have 
 a Maker Club organizational meeting and be making personalized bucket hats
 !   If you are interested in joining us\, please rsvp by reserving a free 
 ticket here and feel free to invite a friend.
X-WR-RELCALID:d66e86f457d602712427e9ebf354f354
X-WR-TIMEZONE:America/Chicago
BEGIN:VTIMEZONE
TZID:America/Chicago
BEGIN:STANDARD
TZNAME:CST
DTSTART:20241103T020000
TZOFFSETFROM:-0500
TZOFFSETTO:-0600
RDATE:20251102T020000
END:STANDARD
BEGIN:DAYLIGHT
TZNAME:CDT
DTSTART:20250309T020000
TZOFFSETFROM:-0600
TZOFFSETTO:-0500
RDATE:20260308T020000
END:DAYLIGHT
END:VTIMEZONE
BEGIN:VEVENT
UID:b539b1b6-868f-4d95-b4d7-c294135910d6
DTSTAMP:20260422T181335Z
DESCRIPTION:You are invited to the 3rd and final Spring meeting of TU Maker
  Club at Fab Lab Tulsa.  This is an event for TU Students.  We will have a
  Maker Club organizational meeting and be making personalized bucket hats!
    If you are interested in joining us\, please rsvp by reserving a free t
 icket here and feel free to invite a friend.
DTSTART;TZID=America/Chicago:20250425T143000
DTEND;TZID=America/Chicago:20250425T170000
LOCATION:501 South Lewis Avenue\, Tulsa\, OK 74104 US
SUMMARY:TU Maker Club at Fab Lab - 3rd Meeting
END:VEVENT
END:VCALENDAR
