BEGIN:VCALENDAR
VERSION:2.0
PRODID:-//fablabtulsa.org//NONSGML kigkonsult.se iCalcreator 2.30.10//
CALSCALE:GREGORIAN
METHOD:PUBLISH
UID:a4eb7c75-8f07-4332-9d02-e33864dd1dca
X-WR-CALDESC:Member Class.  Register for class through Member Portal powere
 d by MindBody.
X-WR-RELCALID:84a7cee99786d7651bc0894a58512b3f
X-WR-TIMEZONE:America/Chicago
BEGIN:VTIMEZONE
TZID:America/Chicago
BEGIN:STANDARD
TZNAME:CST
DTSTART:20241103T020000
TZOFFSETFROM:-0500
TZOFFSETTO:-0600
RDATE:20251102T020000
END:STANDARD
BEGIN:DAYLIGHT
TZNAME:CDT
DTSTART:20250309T020000
TZOFFSETFROM:-0600
TZOFFSETTO:-0500
RDATE:20260308T020000
END:DAYLIGHT
END:VTIMEZONE
BEGIN:VEVENT
UID:42eb095a-5ebe-4187-8dc7-badace9ac72c
DTSTAMP:20260422T181723Z
DESCRIPTION:Member Class.  Register for class through Member Portal powered
  by MindBody.
DTSTART;TZID=America/Chicago:20250412T100000
DTEND;TZID=America/Chicago:20250412T120000
LOCATION:501 S Lewis Ave\, Tulsa\, OK 74104 US
SUMMARY:Class - Manual Woodworking Machinery
END:VEVENT
END:VCALENDAR
