BEGIN:VCALENDAR
VERSION:2.0
PRODID:-//fablabtulsa.org//NONSGML kigkonsult.se iCalcreator 2.30.10//
CALSCALE:GREGORIAN
METHOD:PUBLISH
UID:656bd31e-f18c-490a-9ae2-3af151c80756
X-WR-CALDESC:Welcome to the 2nd meeting of TU Maker Club at Fab Lab Tulsa. 
  This is an event for TU Students.  We will be making personalized acrylic
  signs and organizing the club for the coming year.   If you are intereste
 d in joining us please rsvp by reserving a free ticket here. Feel free to 
 invite a friend.
X-WR-RELCALID:d606a679cd0d90bb9fffe55d5df476e4
X-WR-TIMEZONE:America/Chicago
BEGIN:VTIMEZONE
TZID:America/Chicago
BEGIN:STANDARD
TZNAME:CST
DTSTART:20241103T020000
TZOFFSETFROM:-0500
TZOFFSETTO:-0600
RDATE:20251102T020000
END:STANDARD
BEGIN:DAYLIGHT
TZNAME:CDT
DTSTART:20250309T020000
TZOFFSETFROM:-0600
TZOFFSETTO:-0500
RDATE:20260308T020000
END:DAYLIGHT
END:VTIMEZONE
BEGIN:VEVENT
UID:dd364720-da41-4438-a183-d99e5cd26b3f
DTSTAMP:20260422T195334Z
DESCRIPTION:Welcome to the 2nd meeting of TU Maker Club at Fab Lab Tulsa.  
 This is an event for TU Students.  We will be making personalized acrylic 
 signs and organizing the club for the coming year.   If you are interested
  in joining us please rsvp by reserving a free ticket here. Feel free to i
 nvite a friend.
DTSTART;TZID=America/Chicago:20250328T143000
DTEND;TZID=America/Chicago:20250328T170000
LOCATION:501 South Lewis Avenue\, Tulsa\, OK 74104 US
SUMMARY:TU Maker Club at Fab Lab
END:VEVENT
END:VCALENDAR
