BEGIN:VCALENDAR
VERSION:2.0
PRODID:-//fablabtulsa.org//NONSGML kigkonsult.se iCalcreator 2.30.10//
CALSCALE:GREGORIAN
METHOD:PUBLISH
UID:ed013663-444b-4dc0-ac33-b147e98a5945
X-WR-CALDESC:We will be using Inkscape to create an attachment piece and/or
  decorative pieces for your custom wind chimes.  You will learn some Jewel
 ry making techniques\, and use pre-fabricated chimes to dangle from your c
 reation.  Chimes are on a swivel\, so they can catch the best breeze and b
 ring you peaceful music.\n\nClass time: Class Instruction\, (20-30 minutes
  of computer design\, laser cutting/engraving time\, assembly time (requir
 es some dexterity\, using pliers)\n\nColors of acrylic and class materials
  may vary from image.  A variety of ways to attach the chimes will be show
 n\, and the attendee will choose their own method.
X-WR-RELCALID:7ce056074567e1ca3e19a918220b321b
X-WR-TIMEZONE:America/Chicago
BEGIN:VTIMEZONE
TZID:America/Chicago
BEGIN:STANDARD
TZNAME:CST
DTSTART:20241103T020000
TZOFFSETFROM:-0500
TZOFFSETTO:-0600
RDATE:20251102T020000
END:STANDARD
BEGIN:DAYLIGHT
TZNAME:CDT
DTSTART:20250309T020000
TZOFFSETFROM:-0600
TZOFFSETTO:-0500
RDATE:20260308T020000
END:DAYLIGHT
END:VTIMEZONE
BEGIN:VEVENT
UID:1d8bbe92-f17b-498d-881a-c8b534b10b6e
DTSTAMP:20260424T094927Z
DESCRIPTION:We will be using Inkscape to create an attachment piece and/or 
 decorative pieces for your custom wind chimes.  You will learn some Jewelr
 y making techniques\, and use pre-fabricated chimes to dangle from your cr
 eation.  Chimes are on a swivel\, so they can catch the best breeze and br
 ing you peaceful music.\n\nClass time: Class Instruction\, (20-30 minutes 
 of computer design\, laser cutting/engraving time\, assembly time (require
 s some dexterity\, using pliers)\n\nColors of acrylic and class materials 
 may vary from image.  A variety of ways to attach the chimes will be shown
 \, and the attendee will choose their own method.
DTSTART;TZID=America/Chicago:20250322T100000
DTEND;TZID=America/Chicago:20250322T120000
LOCATION:Fab Lab Tulsa\, 501 S Lewis Ave\, Tulsa\, Ok\, 74104
SUMMARY:Make and Take - Custom Wind Chimes
END:VEVENT
END:VCALENDAR
