BEGIN:VCALENDAR
VERSION:2.0
PRODID:-//fablabtulsa.org//NONSGML kigkonsult.se iCalcreator 2.30.10//
CALSCALE:GREGORIAN
METHOD:PUBLISH
UID:951d051d-71ee-4271-afb7-d90fbbd25aa5
X-WR-CALDESC:
X-WR-RELCALID:4120d139efc8b3a72e60b0ee136f0dc8
X-WR-TIMEZONE:America/Chicago
BEGIN:VTIMEZONE
TZID:America/Chicago
BEGIN:STANDARD
TZNAME:CST
DTSTART:20241103T020000
TZOFFSETFROM:-0500
TZOFFSETTO:-0600
RDATE:20251102T020000
END:STANDARD
BEGIN:DAYLIGHT
TZNAME:CDT
DTSTART:20250309T020000
TZOFFSETFROM:-0600
TZOFFSETTO:-0500
RDATE:20260308T020000
END:DAYLIGHT
END:VTIMEZONE
BEGIN:VEVENT
UID:51cd8005-3bcc-4bab-9799-9ef16e50483f
DTSTAMP:20260422T200558Z
DESCRIPTION:
DTSTART;TZID=America/Chicago:20250317T050000
DTEND;TZID=America/Chicago:20250321T050001
LOCATION:
SUMMARY:TU and TPS Spring Break - OPEN
END:VEVENT
END:VCALENDAR
