BEGIN:VCALENDAR
VERSION:2.0
PRODID:-//fablabtulsa.org//NONSGML kigkonsult.se iCalcreator 2.30.10//
CALSCALE:GREGORIAN
METHOD:PUBLISH
UID:e22a85ab-01c2-4d9d-9ba9-96d1a637e14f
X-WR-CALDESC:Welcome to the first meeting of TU Maker Club at Fab Lab Tulsa
 .  This is an event for TU Students.  We will be making personalized tumbl
 ers and organizing the club for the coming year.   If you are interested i
 n joining us please rsvp by reserving a free ticket here.
X-WR-RELCALID:2bc82cc4bba70fa0337b7a3c3f79439d
X-WR-TIMEZONE:America/Chicago
BEGIN:VTIMEZONE
TZID:America/Chicago
BEGIN:STANDARD
TZNAME:CST
DTSTART:20241103T020000
TZOFFSETFROM:-0500
TZOFFSETTO:-0600
RDATE:20251102T020000
END:STANDARD
BEGIN:DAYLIGHT
TZNAME:CDT
DTSTART:20240310T020000
TZOFFSETFROM:-0600
TZOFFSETTO:-0500
RDATE:20250309T020000
RDATE:20260308T020000
END:DAYLIGHT
END:VTIMEZONE
BEGIN:VEVENT
UID:538a2e79-18dd-4672-91c0-d86edad52fd9
DTSTAMP:20260422T215329Z
DESCRIPTION:Welcome to the first meeting of TU Maker Club at Fab Lab Tulsa.
   This is an event for TU Students.  We will be making personalized tumble
 rs and organizing the club for the coming year.   If you are interested in
  joining us please rsvp by reserving a free ticket here.
DTSTART;TZID=America/Chicago:20250228T143000
DTEND;TZID=America/Chicago:20250228T170000
LOCATION:501 South Lewis Avenue\, Tulsa\, OK 74104 US
SUMMARY:TU Maker Club at Fab Lab
END:VEVENT
END:VCALENDAR
