BEGIN:VCALENDAR
VERSION:2.0
PRODID:-//fablabtulsa.org//NONSGML kigkonsult.se iCalcreator 2.30.10//
CALSCALE:GREGORIAN
METHOD:PUBLISH
UID:d06218ba-272d-4c9d-ac0b-5e0aa6fe90a7
X-WR-CALDESC:Come to our Make and Take event this February!\n\nWe will be d
 oing Velvet Poster prints.  We will design and cut a backing board for the
  poster (max size 20x12 in).  You will need to bring (or find during class
 ) a high quality\, large image.  Small images cannot be sized up\, they wi
 ll come out pixelated.\n\nYou will use Inkscape to draw both your cut file
  for the laser\, and to set up your PDF for printing.  Class will take 20-
 30 minutes of computer time\, laser cutting time\, assembly time\, and UV 
 print time.
X-WR-RELCALID:13bb0ebb79e001d419ae34121acb4db2
X-WR-TIMEZONE:America/Chicago
BEGIN:VTIMEZONE
TZID:America/Chicago
BEGIN:STANDARD
TZNAME:CST
DTSTART:20241103T020000
TZOFFSETFROM:-0500
TZOFFSETTO:-0600
RDATE:20251102T020000
END:STANDARD
BEGIN:DAYLIGHT
TZNAME:CDT
DTSTART:20240310T020000
TZOFFSETFROM:-0600
TZOFFSETTO:-0500
RDATE:20250309T020000
RDATE:20260308T020000
END:DAYLIGHT
END:VTIMEZONE
BEGIN:VEVENT
UID:5588152c-0147-4fe7-9a7c-f06d762cb1a6
DTSTAMP:20260422T221502Z
DESCRIPTION:Come to our Make and Take event this February!\n\nWe will be do
 ing Velvet Poster prints.  We will design and cut a backing board for the 
 poster (max size 20x12 in).  You will need to bring (or find during class)
  a high quality\, large image.  Small images cannot be sized up\, they wil
 l come out pixelated.\n\nYou will use Inkscape to draw both your cut file 
 for the laser\, and to set up your PDF for printing.  Class will take 20-3
 0 minutes of computer time\, laser cutting time\, assembly time\, and UV p
 rint time.
DTSTART;TZID=America/Chicago:20250222T100000
DTEND;TZID=America/Chicago:20250222T120000
LOCATION:Fab Lab Tulsa\, 501 S Lewis Ave\, Tulsa\, Ok\, 74104
SUMMARY:Make and Take - Velvet Poster UV Print
END:VEVENT
END:VCALENDAR
