BEGIN:VCALENDAR
VERSION:2.0
PRODID:-//fablabtulsa.org//NONSGML kigkonsult.se iCalcreator 2.30.10//
CALSCALE:GREGORIAN
METHOD:PUBLISH
UID:70c360a9-20b2-474e-bd1e-71cb20d82cc5
X-WR-CALDESC:
X-WR-RELCALID:2b4e2a8c4bbf53f994807fc9e869fc92
X-WR-TIMEZONE:America/Chicago
BEGIN:VTIMEZONE
TZID:America/Chicago
BEGIN:STANDARD
TZNAME:CST
DTSTART:20241103T020000
TZOFFSETFROM:-0500
TZOFFSETTO:-0600
RDATE:20251102T020000
END:STANDARD
BEGIN:DAYLIGHT
TZNAME:CDT
DTSTART:20240310T020000
TZOFFSETFROM:-0600
TZOFFSETTO:-0500
RDATE:20250309T020000
RDATE:20260308T020000
END:DAYLIGHT
END:VTIMEZONE
BEGIN:VEVENT
UID:a6a32282-86af-422a-9bc5-0fadcd8b6c53
DTSTAMP:20260422T233643Z
DESCRIPTION:
DTSTART;TZID=America/Chicago:20250124T140000
DTEND;TZID=America/Chicago:20250124T170000
LOCATION:
SUMMARY:TU Student Open House
END:VEVENT
END:VCALENDAR
