BEGIN:VCALENDAR
VERSION:2.0
PRODID:-//fablabtulsa.org//NONSGML kigkonsult.se iCalcreator 2.30.10//
CALSCALE:GREGORIAN
METHOD:PUBLISH
UID:d0e90c60-7d34-4f01-a499-3a533884cde2
X-WR-CALDESC:
X-WR-RELCALID:818231a3ed2724a29ab8460ff2c466a9
X-WR-TIMEZONE:America/Chicago
BEGIN:VTIMEZONE
TZID:America/Chicago
BEGIN:STANDARD
TZNAME:CST
DTSTART:20241103T020000
TZOFFSETFROM:-0500
TZOFFSETTO:-0600
RDATE:20251102T020000
END:STANDARD
BEGIN:DAYLIGHT
TZNAME:CDT
DTSTART:20240310T020000
TZOFFSETFROM:-0600
TZOFFSETTO:-0500
RDATE:20250309T020000
RDATE:20260308T020000
END:DAYLIGHT
END:VTIMEZONE
BEGIN:VEVENT
UID:21f84ade-3154-483e-acde-32b6ee8be7e2
DTSTAMP:20260422T234041Z
DESCRIPTION:
DTSTART;TZID=America/Chicago:20250118T050000
DTEND;TZID=America/Chicago:20250120T050001
LOCATION:501 S Lewis Ave\, Tulsa\, OK 74104 US
SUMMARY:Martin Luther King Jr Holiday
END:VEVENT
END:VCALENDAR
